BEGIN:VCALENDAR
VERSION:2.0
PRODID:-//BAK Information - ECPv6.15.16//NONSGML v1.0//EN
CALSCALE:GREGORIAN
METHOD:PUBLISH
X-ORIGINAL-URL:https://bak-information.de
X-WR-CALDESC:Veranstaltungen für BAK Information
REFRESH-INTERVAL;VALUE=DURATION:PT1H
X-Robots-Tag:noindex
X-PUBLISHED-TTL:PT1H
BEGIN:VTIMEZONE
TZID:Europe/Berlin
BEGIN:DAYLIGHT
TZOFFSETFROM:+0100
TZOFFSETTO:+0200
TZNAME:CEST
DTSTART:20220327T010000
END:DAYLIGHT
BEGIN:STANDARD
TZOFFSETFROM:+0200
TZOFFSETTO:+0100
TZNAME:CET
DTSTART:20221030T010000
END:STANDARD
BEGIN:DAYLIGHT
TZOFFSETFROM:+0100
TZOFFSETTO:+0200
TZNAME:CEST
DTSTART:20230326T010000
END:DAYLIGHT
BEGIN:STANDARD
TZOFFSETFROM:+0200
TZOFFSETTO:+0100
TZNAME:CET
DTSTART:20231029T010000
END:STANDARD
BEGIN:DAYLIGHT
TZOFFSETFROM:+0100
TZOFFSETTO:+0200
TZNAME:CEST
DTSTART:20240331T010000
END:DAYLIGHT
BEGIN:STANDARD
TZOFFSETFROM:+0200
TZOFFSETTO:+0100
TZNAME:CET
DTSTART:20241027T010000
END:STANDARD
END:VTIMEZONE
BEGIN:VEVENT
DTSTART;TZID=Europe/Berlin:20230118T180000
DTEND;TZID=Europe/Berlin:20230118T193000
DTSTAMP:20260419T135931
CREATED:20221223T130454Z
LAST-MODIFIED:20240423T100053Z
UID:688-1674064800-1674070200@bak-information.de
SUMMARY:bak 01/23: Online-Vortrag: Strukturierung eines Personenlexikons aus museum-digital.de
DESCRIPTION:2021 wurde der Grundstein für ein Berlin-Brandenburgischen Künstlerlexikons (erst einmal bis Geburtsjahr 1875) gelegt. Es ging bei diesem ersten Schritt auf dem Weg zu einem Lexikon erst einmal um die Biographien von 75 künstlerisch tätigen Frauen\, die nicht nur nach Namen\, sondern auch nach Orten\, Gattungen und Zeiten recherchierbar sind. \nDas Berlin-Brandenburgische Künstlerlexikon wird aus der Struktur der Datenbank “museum-digital” gespeist – eine Plattform auf der große und kleine Museen Informationen zu ihren Objekten veröffentlichen\, aber auch zu Sammlungen wie Fotos\, Zeichnungen und Schriftgut. \nDie in museum-digital erschlossenen Kunstwerke aus den verschiedenen Museen in Berlin und Brandenburg fließen in das Berlin-Brandenburgischen Künstlerlexikons ein und zeigen eindrucksvoll wie die Erschließung in der Datenbank übergeht zu einer Webseite mit biographischen Texten zu Künstlerinnen und Künstlern. \nDer Vortrag Iris Berndt und Dr. Peter Bahl soll zum einen durch Einblicke in das back-end von museum-digital die Möglichkeiten aufzeigen\, dort biographische Daten abzulegen\, eine Funktion\, die für dieses Projekt von museum-digital weiterentwickelt wurde. Zudem entstehen durch Schlagworte und Verweise Verknüpfungen der verschiedenen Objekte und Sammlungen. In einem nächsten Schritt wird der Vergleich zwischen Datensatz und Webseite dargestellt. \nReferenten: Iris Berndt und Dr. Peter Bahl
URL:https://bak-information.de/event/bak-01-23-online-vortrag-strukturierung-eines-personenlexikons-aus-museum-digital-de/
CATEGORIES:Virtuell
ATTACH;FMTTYPE=image/jpeg:https://bak-information.de/wp-content/uploads/2022/12/Gemaelde_Kunst_2-50725-952590.jpg
END:VEVENT
END:VCALENDAR