BEGIN:VCALENDAR
VERSION:2.0
PRODID:-//BAK Information - ECPv6.15.16//NONSGML v1.0//EN
CALSCALE:GREGORIAN
METHOD:PUBLISH
X-ORIGINAL-URL:https://bak-information.de
X-WR-CALDESC:Veranstaltungen für BAK Information
REFRESH-INTERVAL;VALUE=DURATION:PT1H
X-Robots-Tag:noindex
X-PUBLISHED-TTL:PT1H
BEGIN:VTIMEZONE
TZID:Europe/Berlin
BEGIN:DAYLIGHT
TZOFFSETFROM:+0100
TZOFFSETTO:+0200
TZNAME:CEST
DTSTART:20210328T010000
END:DAYLIGHT
BEGIN:STANDARD
TZOFFSETFROM:+0200
TZOFFSETTO:+0100
TZNAME:CET
DTSTART:20211031T010000
END:STANDARD
BEGIN:DAYLIGHT
TZOFFSETFROM:+0100
TZOFFSETTO:+0200
TZNAME:CEST
DTSTART:20220327T010000
END:DAYLIGHT
BEGIN:STANDARD
TZOFFSETFROM:+0200
TZOFFSETTO:+0100
TZNAME:CET
DTSTART:20221030T010000
END:STANDARD
BEGIN:DAYLIGHT
TZOFFSETFROM:+0100
TZOFFSETTO:+0200
TZNAME:CEST
DTSTART:20230326T010000
END:DAYLIGHT
BEGIN:STANDARD
TZOFFSETFROM:+0200
TZOFFSETTO:+0100
TZNAME:CET
DTSTART:20231029T010000
END:STANDARD
END:VTIMEZONE
BEGIN:VEVENT
DTSTART;VALUE=DATE:20221001
DTEND;VALUE=DATE:20221002
DTSTAMP:20260419T185509
CREATED:20220915T123930Z
LAST-MODIFIED:20240812T124203Z
UID:1030-1664582400-1664668799@bak-information.de
SUMMARY:8. Tag der Bibliotheken Berlin Brandenburg
DESCRIPTION:Unter dem Titel „Kompetenz und Leidenschaft – Bibliotheken Berlin Brandenburg“ findet am 01.10.2022 der 8. Tag der Bibliotheken in Berlin und Brandenburg in Brandenburg an der Havel in der St. Johanniskirche sowie im Gotischen Haus statt. \nEs treffen sich Bibliotheksfachleute aus Berlin und Brandenburg\, um über aktuelle Aufgaben und gelungene Projekte zu beraten. Der Tag der Bibliotheken wird organisiert von den bibliothekarischen Verbänden der Region: Landesverbände Berlin und Brandenburg des Deutschen Bibliotheksverbandes (dbv)\, Landesgruppen Berlin und Brandenburg des Berufsverbands Information Bibliothek (BIB)\, Verein Deutscher Bibliothekare Berlin und Brandenburg (VDB)\, Berliner Arbeitskreis Information (BAK).
URL:https://bak-information.de/event/8-tag-der-bibliotheken-berlin-brandenburg/
END:VEVENT
BEGIN:VEVENT
DTSTART;TZID=Europe/Berlin:20221020T180000
DTEND;TZID=Europe/Berlin:20221020T193000
DTSTAMP:20260419T185509
CREATED:20221004T122710Z
LAST-MODIFIED:20241010T101305Z
UID:1026-1666288800-1666294200@bak-information.de
SUMMARY:bak 07/22: Berlin zeichnet Mode – Bericht über ein Digitalisierungsprojekt
DESCRIPTION:2021 konnten in einem Kooperationsprojekt von Lette Verein Berlin\, Sammlung Modebild – Lipperheidische Kostümbibliothek der Kunstbibliothek Berlin\, Stadtmuseum Berlin und Fachbereich 5 der HTW Berlin viele wertvolle Modezeichnungen digitalisiert werden. Die Metadaten wurden in die Deutsche Digitale Bibliothek und in die Europeana exportiert. Darüber hinaus konnten die Projektpartnerinnen auf der Ausstellungsplattform DDB Studio eine virtuelle Geschichte aus ihren Projektergebnissen gestalten\, die demnächst veröffentlicht wird. Die Projektpartnerinnen berichten über das Kooperationsprojekt\, besondere Herausforderungen und Ergebnisse. Es gibt einen Einblick in die virtuelle Ausstellung. \nReferentinnen:\nDr. Britta Bommert\, Leiterin der Sammlung Modebild – Lipperheidische Kostümbibliothek\nJana Haase\, Leiterin der Bibliothek und des Archivs in der Stiftung Lette Verein Berlin\nDr. Dorothee Haffner\, Professorin für Museumsdokumentation an der HTW Berlin\nHeike-Katrin Remus\, Kuratorin der Sammlung Mode und Textilien im Stadtmuseum Berlin \nDie Veranstaltung findet per Zoom statt und ist kostenlos. Bitte melden Sie sich bis zum 19.10.2022 unter bak@ub.tu-berlin.de an. Die Zugangsdaten zur Zoom-Veranstaltung werden Ihnen einen Tag vor der Veranstaltung per Mail zugesandt.\nWir nutzen die Cloud-Software Zoom der TU Berlin. Hinweise zum Datenschutz bei Videokonferenzen. \nVortragsaufzeichnung auf Youtube: BAK Information – YouTube
URL:https://bak-information.de/event/bak-07-22-berlin-zeichnet-mode-bericht-ueber-ein-digitalisierungsprojekt/
CATEGORIES:Virtuell
ATTACH;FMTTYPE=image/jpeg:https://bak-information.de/wp-content/uploads/2022/10/Mode_gezeichnet_Veranstaltungen-scaled.jpg
END:VEVENT
BEGIN:VEVENT
DTSTART;TZID=Europe/Berlin:20221024T000000
DTEND;TZID=Europe/Berlin:20221028T000000
DTSTAMP:20260419T185509
CREATED:20221010T123347Z
LAST-MODIFIED:20240812T123821Z
UID:1028-1666569600-1666915200@bak-information.de
SUMMARY:bak 08/22: Quo vadis Offene Wissenschaft in Berlin und Brandenburg: Let’s talk! Videoreihe zur Internationalen Open-Access-Week 2022
DESCRIPTION:Der Berliner Arbeitskreis Information (BAK) ist Kooperationspartner der Vernetzungs- und Kompetenzstelle Open Access Brandenburg\, eine von bundesweit derzeit vier Open-Access-Vernetzungsstellen auf Landesebene.\nIn der „Let’s talk“-genannten Videoreihe von Werkstattgesprächen sollen verschiedene Aspekte der Offenen Wissenschaft erörtert und die Diversität der Perspektiven sichtbar werden. Im Rahmen der Internationalen Open-Access-Week 2022 wird vom 24.-28.10.2022 täglich einer dieser Beiträge veröffentlicht. \n>> mehr: https://open-access-brandenburg.de/lets-talk/\n>> direkt zum Trailer: https://av.tib.eu/media/59393
URL:https://bak-information.de/event/bak-08-22-quo-vadis-offene-wissenschaft-in-berlin-und-brandenburg-lets-talk-videoreihe-zur-internationalen-open-access-week-2022/
CATEGORIES:Virtuell
END:VEVENT
END:VCALENDAR