BEGIN:VCALENDAR
VERSION:2.0
PRODID:-//BAK Information - ECPv6.15.16//NONSGML v1.0//EN
CALSCALE:GREGORIAN
METHOD:PUBLISH
X-WR-CALNAME:BAK Information
X-ORIGINAL-URL:https://bak-information.de
X-WR-CALDESC:Veranstaltungen für BAK Information
REFRESH-INTERVAL;VALUE=DURATION:PT1H
X-Robots-Tag:noindex
X-PUBLISHED-TTL:PT1H
BEGIN:VTIMEZONE
TZID:Europe/Berlin
BEGIN:DAYLIGHT
TZOFFSETFROM:+0100
TZOFFSETTO:+0200
TZNAME:CEST
DTSTART:20210328T010000
END:DAYLIGHT
BEGIN:STANDARD
TZOFFSETFROM:+0200
TZOFFSETTO:+0100
TZNAME:CET
DTSTART:20211031T010000
END:STANDARD
BEGIN:DAYLIGHT
TZOFFSETFROM:+0100
TZOFFSETTO:+0200
TZNAME:CEST
DTSTART:20220327T010000
END:DAYLIGHT
BEGIN:STANDARD
TZOFFSETFROM:+0200
TZOFFSETTO:+0100
TZNAME:CET
DTSTART:20221030T010000
END:STANDARD
BEGIN:DAYLIGHT
TZOFFSETFROM:+0100
TZOFFSETTO:+0200
TZNAME:CEST
DTSTART:20230326T010000
END:DAYLIGHT
BEGIN:STANDARD
TZOFFSETFROM:+0200
TZOFFSETTO:+0100
TZNAME:CET
DTSTART:20231029T010000
END:STANDARD
END:VTIMEZONE
BEGIN:VEVENT
DTSTART;TZID=Europe/Berlin:20220621T183000
DTEND;TZID=Europe/Berlin:20220621T200000
DTSTAMP:20260420T010413
CREATED:20220603T124334Z
LAST-MODIFIED:20240812T124734Z
UID:1032-1655836200-1655841600@bak-information.de
SUMMARY:bak 06/22: Online-Vortrag: Von der Filmdose in die ARD Mediathek. Einblicke in die Zugänglichmachung historischer Fernsehbeiträge durch Retro Spezial DDR
DESCRIPTION:Retro Spezial DDR ist ein Kooperationsprojekt von DRA und ARD Mediathek\, das Videos aus dem DDR-Fernsehen zugänglich macht. Seit Oktober 2020 können Nutzer*innen Fernsehbeiträge aus den Jahren 1952-1965 online abrufen. Dabei ist Retro Spezial DDR ein Teil des Netzwerks von ARD-Retro\, in dem die Medienarchive aller Rundfunkanstalten der ARD vertreten sind. \nBrigitta Hafiz und Jens Kleinschmidt werden zunächst das Archivöffnungsprojekt vorstellen und dabei auf die rechtlichen und archivischen Rahmenbedingungen eingehen\, um dann einen Blick auf den Inhalt des Mediathekangebots zu werfen. Einzelne Arbeitsschritte von der Digitalisierung\, über die Rechteklärung bis zur Bereitstellung von Videoinhalten werden anschließend erläutert. Der letzte Teil zeigt Aspekte der redaktionellen Arbeit und des Kuratierens auf. \nReferenten: Brigitta Hafiz (Deutsches Rundfunkarchiv\, Historikerin und Wiss. Archivarin\, Teammitglied „Retro Spezial DDR“)\nJens Kleinschneider (Deutsches Rundfunkarchiv\, Wiss. Dokumentar\, Teammitglied „Retro Spezial DDR“) \nDie Veranstaltung findet per Zoom statt und ist kostenlos. Bitte melden Sie sich bis zum 20.06.2022 unter bak@ub.tu-berlin.de an. Die Zugangsdaten zur Zoom-Veranstaltung werden Ihnen einen Tag vor der Veranstaltung per Mail zugesandt.\nWir nutzen die Cloud-Software Zoom der TU Berlin. Hinweise zum Datenschutz bei Videokonferenzen. \nVortragsaufzeichnung auf Youtube: BAK Information – YouTube
URL:https://bak-information.de/event/bak-06-22-online-vortrag-von-der-filmdose-in-die-ard-mediathek-einblicke-in-die-zugaenglichmachung-historischer-fernsehbeitraege-durch-retro-spezial-ddr/
END:VEVENT
END:VCALENDAR